BEGIN:VCALENDAR
VERSION:2.0
PRODID:-//wp-events-plugin.com//7.2.3.1//EN
TZID:Australia/Sydney
X-WR-TIMEZONE:Australia/Sydney
BEGIN:VEVENT
UID:2868@unswoc.org
DTSTART;VALUE=DATE:20180623
DTEND;VALUE=DATE:20180624
DTSTAMP:20210225T033028Z
URL:https://unswoc.org/wordpress/events/outdoor-multi-pitch-climbing/
SUMMARY:Outdoor Multi-pitch Climbing
DESCRIPTION:Outdoor multi-pitch climbing in the Blue Mountains this Saturda
 y!!!\n\nLooking for an adventure this weekend? Come multi-pitch climbing i
 n the Blue Mountains this Sunday\, most likely Tom Thumb :)\n\nIf you'd li
 ke to come make sure to send me a fb message with the following details:\n
 \n1) Do you need any climbing gear?\n\n2) Do you have a car?\n\n3) Your cl
 imbing level/experience\n\nKit list:\n\n 	Climbing shoes (can be borrowed 
 from the club)\n 	Climbing helmet (can be borrowed)\n 	Harness (can be bor
 rowed)\n 	Belay device and locking carabiner (can be borrowed)\n 	Food and
  water for the day. At least 1.5L of water\n 	Walking shoes\n 	Warm clothe
 s\, it may be cold\n 	Backpack for all of the above\n 	A sense of adventur
 e!\n
CATEGORIES:Outdoor Climbing
END:VEVENT
END:VCALENDAR