BEGIN:VCALENDAR
VERSION:2.0
PRODID:-//wp-events-plugin.com//7.2.3.1//EN
TZID:Australia/Sydney
X-WR-TIMEZONE:Australia/Sydney
BEGIN:VEVENT
UID:2261@unswoc.org
DTSTART:20180630T200000Z
DTEND:20180701T080000Z
DTSTAMP:20210218T053800Z
URL:https://unswoc.org/wordpress/events/outdoor-climbing/
SUMMARY:Outdoor Climbing
DESCRIPTION:Outdoor climbing in the Blue Mountains this Sunday!!!\n\nTrying
  to transition from indoor to outdoor climbing? In search of more exciting
  plans for the weekend? Want to escape from the city? Come climbing in the
  Blue Mountains this Sunday. Location will depend on sign ups :)\n\nIf you
 'd like to come make sure to send me a fb message with the following detai
 ls:\n\n1) Do you need any climbing gear?\n\n2) Do you have a car?\n\n3)You
 r climbing level/experience\n\nKit list:\n\n 	Climbing shoes (can be borro
 wed from the club)\n 	Climbing helmet (can be borrowed)\n 	Harness (can be
  borrowed)\n 	Belay device and locking carabiner (can be borrowed)\n 	Food
  and water for the day. At least 1.5L of water\n 	Walking shoes\n 	Warm cl
 othes\, it will be cold\n 	Backpack for all of the above\n 	Good vibes\n
CATEGORIES:Outdoor Climbing
END:VEVENT
END:VCALENDAR