BEGIN:VCALENDAR
VERSION:2.0
PRODID:-//wp-events-plugin.com//7.2.3.1//EN
TZID:Australia/Sydney
X-WR-TIMEZONE:Australia/Sydney
BEGIN:VEVENT
UID:2262@unswoc.org
DTSTART:20180707T200000Z
DTEND:20180708T080000Z
DTSTAMP:20180705T144537Z
URL:https://unswoc.org/wordpress/events/outdoor-climbing-part-ii/
SUMMARY:Outdoor Climbing Part II.
DESCRIPTION:More Sunday Outdoor climbing in the Blue Mountains!!!\n\nMissed
  out on the outdoor climbing trip last weekend? Do not fear\, outdoor cli
 mbing in the Blueys Part II is here!!! Once again location will be confirm
  after sign ups :)\n\nIf you'd like to come make sure to send me a fb mess
 age with the following details:\n\n1) Do you need any climbing gear?\n\n2)
  Do you have a car?\n\n3) Your climbing level/experience\n\nKit list:\n\n 
 	Climbing shoes (can be borrowed from the club)\n 	Climbing helmet (can be
  borrowed)\n 	Harness (can be borrowed)\n 	Belay device and locking carabi
 ner (can be borrowed)\n 	Food and water for the day. At least 1.5L of wate
 r\n 	Walking shoes\n 	Warm clothes\, it will be windy\n 	Backpack for all 
 of the above\n 	Banter\n
CATEGORIES:Outdoor Climbing
END:VEVENT
END:VCALENDAR