BEGIN:VCALENDAR
VERSION:2.0
PRODID:-//wp-events-plugin.com//7.2.3.1//EN
TZID:Australia/Sydney
X-WR-TIMEZONE:Australia/Sydney
BEGIN:VEVENT
UID:2640@unswoc.org
DTSTART;TZID=Australia/Sydney:20200318T170000
DTEND;TZID=Australia/Sydney:20200318T200000
DTSTAMP:20200317T031848Z
URL:https://unswoc.org/wordpress/events/outdoor-climbing-at-earlwood-wedne
 sday-evening/
SUMMARY:Outdoor climbing at Earlwood (Wednesday evening)
DESCRIPTION:Bojana and I (Maria) are running a small sport climbing trip th
 is Wednesday at Earlwood to avoid going to the climbing gym :) Bring your 
 headtorch!\n\nWe will drive from UNSW leaving at 5 pm sharp. Meeting at Ge
 ar Cupboard at 4.55 pm. You'll need a helmet\, harness\, climbing shoes\, 
 and carabiner with ATC (we can borrow it from the gear cupboard on the spo
 rt if you don't have your own). Climbing min grade 16.\n\nGoing here: http
 s://www.thecrag.com/climbing/australia/inner-west/area/12011923\n\n\n\nPho
 to - Happy Ash finishing climbing in the dark!\n\nNote: Participants with 
 any coronavirus symptoms\, or who have been overseas in the past 2 weeks\,
  or who may have been in contact with a coronavirus case are strictly NOT 
 allowed. Please bring hand sanitizer and avoid public transport to come to
  this trip.
CATEGORIES:Outdoor Climbing
END:VEVENT
BEGIN:VTIMEZONE
TZID:Australia/Sydney
X-LIC-LOCATION:Australia/Sydney
BEGIN:DAYLIGHT
DTSTART:20191006T030000
TZOFFSETFROM:+1000
TZOFFSETTO:+1100
TZNAME:AEDT
END:DAYLIGHT
END:VTIMEZONE
END:VCALENDAR