BEGIN:VCALENDAR
VERSION:2.0
PRODID:-//wp-events-plugin.com//7.2.3.1//EN
TZID:Australia/Sydney
X-WR-TIMEZONE:Australia/Sydney
BEGIN:VEVENT
UID:2627@unswoc.org
DTSTART;TZID=Australia/Sydney;VALUE=DATE:20200315
DTEND;TZID=Australia/Sydney;VALUE=DATE:20200316
DTSTAMP:20200314T020718Z
URL:https://unswoc.org/wordpress/events/outdoor-bouldering-beginner-interm
 ediate/
SUMMARY:Tall Bois\, Small Rocks (Outdoor Bouldering)
DESCRIPTION:Hey everyone\,\n\n&nbsp\;\n\n\n\n\nCam and I (Nic) will hopeful
 ly be leading a beginner-friendly pebble wrestling trip to Frontlines in B
 aulkham Hills. This is a lovely crag in a peaceful bush setting\, with a s
 hort and relatively flat walk in – perfect beginner and intermediate cli
 mbers! 😊\n\n\n\n\n\n\n\n\n\n\n\nNo climbing experience is required\, bu
 t you will need:\n\n 	Climbing gear: Climbing shoes* and chalk bag (* = co
 uld be borrowed from the club).\n 	For clothing: Sport clothes. It can ge
 t quite hot or quite chilly\, so be prepared for both.\n 	For sustenance:
  2L of water\, food or snacks\, chocolate for trip leaders 😉\n 	Other
  gear: Sunscreen\, medicines if you need them (asthma puffer\, etc).\n\nI
 f you have any questions\, comments\, concerns\, death threats\, or dead b
 udgerigars\, message Cameron Harkins or myself (Nicolas Di Campli) on Face
 book. When signing up please write down your experience and what gear (i
 f any) you need!\n\n&nbsp\;\n\nGet stoked\, it should be a fun day (if it
  doesn’t rain)!\n\n\n\n\n
CATEGORIES:Bouldering
END:VEVENT
BEGIN:VTIMEZONE
TZID:Australia/Sydney
X-LIC-LOCATION:Australia/Sydney
BEGIN:DAYLIGHT
DTSTART:20191006T030000
TZOFFSETFROM:+1000
TZOFFSETTO:+1100
TZNAME:AEDT
END:DAYLIGHT
END:VTIMEZONE
END:VCALENDAR