BEGIN:VCALENDAR
VERSION:2.0
PRODID:-//wp-events-plugin.com//7.2.3.1//EN
TZID:Australia/Sydney
X-WR-TIMEZONE:Australia/Sydney
BEGIN:VEVENT
UID:703@unswoc.org
DTSTART:20150307T213000Z
DTEND:20150308T020000Z
DTSTAMP:20150301T091550Z
URL:https://unswoc.org/wordpress/events/orienteering-unsw-campus/
SUMMARY:Orienteering UNSW Campus
DESCRIPTION:Hey Everyone!\n\nThis coming Sunday Rod Eckels of Garingal Orie
 nteers (and a part time lecturer at UNSW) is running an orienteering event
  through campus! It will be loads of fun and will be huge. Represent UNSWO
 C\, Join just for the thrill of it or to try your best against some of the
  best orienteers in Australia! There will be about 300 people all going fo
 r it. You don't need to be an Outdoors Club member to attend either.\n\nPl
 ease sign up here so I can give Rod an estimate on numbers.\n\nStudents ca
 n enter on the day\, get there between 8:30 and 10 to sign up and start. J
 ust $10 for UNSW students to sign up which includes coaching\, map and tim
 ing stick. So get amongst it!\n\nYou'll want comfortable clothing\, good s
 hoes\, water and snacks and a big breakfast for this one.\n\nFlyer with mo
 re info below (Click on image for larger version)\n\nCheers\,\n\nBrendan\n
 \n&nbsp\;\n\n
LOCATION:Sam Cracknell Pavillion\, UNSW\, Kensington\, NSW\, 2052\, Austral
 ia
GEO:-33.917412;151.231308
X-APPLE-STRUCTURED-LOCATION;VALUE=URI;X-ADDRESS=UNSW\, Kensington\, NSW\, 2
 052\, Australia;X-APPLE-RADIUS=100;X-TITLE=Sam Cracknell Pavillion:geo:-33
 .917412,151.231308
END:VEVENT
END:VCALENDAR