BEGIN:VCALENDAR
VERSION:2.0
PRODID:-//wp-events-plugin.com//7.2.3.1//EN
TZID:Australia/Sydney
X-WR-TIMEZONE:Australia/Sydney
BEGIN:VEVENT
UID:1985@unswoc.org
DTSTART;VALUE=DATE:20160320
DTEND;VALUE=DATE:20160321
DTSTAMP:20160315T035746Z
URL:https://unswoc.org/wordpress/events/orienteering-training-boree-log/
SUMMARY:Orienteering Training - Boree Log
DESCRIPTION:\n\nDo you want to improve your navigation? Do you like running
 ?  Do you like problem solving challenges? If you answered yes to any of 
 these questions then orienteering is for you!\n\nFor those who don't know\
 , Orienteering is an adventure sport where you use nothing but a map and a
  compass to navigate your way around a course (made up of a series of chec
 kpoints) as fast as you can. If you want to find out more about it read th
 e wikipedia page\, or ask me (I can talk about it for hours... just ask an
 yone).\n\n\n\nThe club has just bought a new suite of compasses and so on 
 Sunday of Boree log I am running an orienteering training event in the Gar
 dens of Stone National Park. I will be preparing exercises for a range of
  levels\, so beginners to seasoned orienteers are all welcome.\n\nThe day 
 will consist of some basic skills exercises and pairs training courses in 
 the morning before we take a break for lunch. After lunch I will go and pl
 ace checkpoints so we can run some races (probably team relays\, because t
 hey are exciting)!\n\nWhat to bring:\n\n	Running shoes (Trail runners if y
 ou have them\, joggers will also be fine but you will be going off tracks)
 \n	Sports clothes (Whatever is comfortable for moving fast through the bus
 h)\n	Water! (It could be a hot day so bring atleast 3L of water)\n	Sunscre
 en\n	Hat\n	Lunch and snacks\n	Compass if you have one (and send me a messa
 ge to let me know\, because then I might be able to open up more spaces).\
 n\nIf you have a car also let me know because then I can open up more spac
 es as well :)\n\nAny questions or inquiries email me at andrew.barnett.au@
 gmail.com or text 0439735393.\n\nAndrew
ATTACH;FMTTYPE=image/jpeg:https://unswoc.org/wordpress/wp-content/uploads/
 2016/03/gardens-of-stone-03.jpg
CATEGORIES:Bushwalking,Rogaining,Training
END:VEVENT
END:VCALENDAR