BEGIN:VCALENDAR
VERSION:2.0
PRODID:-//wp-events-plugin.com//7.2.3.1//EN
TZID:Australia/Sydney
X-WR-TIMEZONE:Australia/Sydney
BEGIN:VEVENT
UID:2535@unswoc.org
DTSTART;TZID=Australia/Sydney;VALUE=DATE:20191013
DTEND;TZID=Australia/Sydney;VALUE=DATE:20191014
DTSTAMP:20191008T020606Z
URL:https://unswoc.org/wordpress/events/optimistic-trad-climbing-intermedi
 ate-advanced/
SUMMARY:Optimistic Trad Climbing [Intermediate - Advanced]
DESCRIPTION:Brendan O'Rourke and I are hoping the BoM has got it wrong and 
 that we can go Trad climbing this Sunday. Expect a last minute go/no-go fo
 r this trip as it has a high chance of being cancelled due to rain\, but j
 uuuust in case the forecast changes we're making this trip.\n\nIf you don'
 t know what trad climbing is\, this trip is unfortunately not for you.\n\n
 This trip is aimed at people who can competently lead/climb belay and are 
 interested or preferably have some experience with trad (leading and/or se
 conding)\n\nDon't worry about needing a trad rack\, but you will need to o
 rganise all your own personal gear (helmet\, harness\, belay device etc.) 
 and food/water for the day.\n\n&nbsp\;\n\nSo if you're keen and optimistic
 \, sign up and tell me your experience in the comments :)
ATTACH;FMTTYPE=image/jpeg:https://unswoc.org/wordpress/wp-content/uploads/
 2019/08/69536807_2889697987711270_8215679675926577152_o.jpg
CATEGORIES:Outdoor Climbing
END:VEVENT
BEGIN:VTIMEZONE
TZID:Australia/Sydney
X-LIC-LOCATION:Australia/Sydney
BEGIN:DAYLIGHT
DTSTART:20191006T030000
TZOFFSETFROM:+1000
TZOFFSETTO:+1100
TZNAME:AEDT
END:DAYLIGHT
END:VTIMEZONE
END:VCALENDAR