BEGIN:VCALENDAR
VERSION:2.0
PRODID:-//wp-events-plugin.com//7.2.3.1//EN
TZID:Australia/Sydney
X-WR-TIMEZONE:Australia/Sydney
BEGIN:VEVENT
UID:487@unswoc.org
DTSTART:20140606T200000Z
DTEND:20140607T050000Z
DTSTAMP:20140605T231327Z
URL:https://unswoc.org/wordpress/events/open-climbing-trip-mt-york-beginne
 rs-welcome/
SUMMARY:OPEN Climbing Trip - Mt York 
DESCRIPTION:Hi All!\n\nTo get the ball rolling on having more OPEN club tri
 ps\, me and Rene are running a climbing trip to Mt York in the blue mounta
 ins this Saturday. BEGINNERS welcome\, as is anyone else who would like to
  come climb!\n\nYou'll need:\n\n	Harness\n	Helmet\n	Belay Plate\n	Climbing
  Shoes\n\nAny of these items can be obtained from the gear cupboard if you
  don't have your own\n\nAlso recommended\n\n	Warm Clothes\n	Food\n	Water\n
 	Rope\n	Sunscreen\n\nCheers folks!
CATEGORIES:Outdoor Climbing
LOCATION:\, \, 
X-APPLE-STRUCTURED-LOCATION;VALUE=URI;X-ADDRESS=\, ;X-APPLE-RADIUS=100;X-TI
 TLE=:geo:0,0
END:VEVENT
END:VCALENDAR