BEGIN:VCALENDAR
VERSION:2.0
PRODID:-//wp-events-plugin.com//7.2.3.1//EN
TZID:Australia/Sydney
X-WR-TIMEZONE:Australia/Sydney
BEGIN:VEVENT
UID:534@unswoc.org
DTSTART:20140823T213000Z
DTEND:20140824T060000Z
DTSTAMP:20140822T235706Z
URL:https://unswoc.org/wordpress/events/open-climbing-the-stables/
SUMMARY:**TRIP POSTPONED*** Rain. Beginner's Climbing - The Stables
DESCRIPTION:Hey You\,\n\nEDIT: **TRIP POSTPONED** Sorry guys! Apparently "S
 howers" can also mean pouring rain\, so the rock will be seeping\, and "sh
 owers" are forecast tomorrow. Jordan and I will run one again soon and ye 
 will have first preference!\n\nDo you want to come climbing? Of course you
  do!\nSee you at The Stables Pennant Hills where Jordan\, Jess and I are r
 unning a beginner friendly climbing trip\, so come one and all of all expe
 riences :)\n\nI have set the numbers to 12 spaces at the moment\, so would
  be great to have 3 cars! we have none... It is possible to shuttle from P
 ennant Hills Station as well.\n\nYou'll need:\n\n- Food\, Water\, Clothing
 \, Sunscreen\n- Helmet\, Harness (Can be borrowed from gear cupboard on we
 dnesday evening)\n- Climbing shoes (If you don't have any we're bringing a
  bunch so should be right)\n- Rope (if you have one)\n- Snacks\, lollies f
 or your lovely trip leaders\n\nCheers Big Ears's's\n\nBrendan\n\nhttps://w
 ww.thecrag.com/climbing/australia/north-west/area/12009787
CATEGORIES:Outdoor Climbing
LOCATION:The Stables\, Schofield Parade\, Pennant Hills\, NSW\, Australia
GEO:-33.728752;151.061478
X-APPLE-STRUCTURED-LOCATION;VALUE=URI;X-ADDRESS=Schofield Parade\, Pennant 
 Hills\, NSW\, Australia;X-APPLE-RADIUS=100;X-TITLE=The Stables:geo:-33.728
 752,151.061478
END:VEVENT
END:VCALENDAR