BEGIN:VCALENDAR
VERSION:2.0
PRODID:-//wp-events-plugin.com//7.2.3.1//EN
TZID:Australia/Sydney
X-WR-TIMEZONE:Australia/Sydney
BEGIN:VEVENT
UID:625@unswoc.org
DTSTART:20141002T130000Z
DTEND:20141005T130000Z
DTSTAMP:20140930T155814Z
URL:https://unswoc.org/wordpress/events/october-long-weekend-skiing/
SUMMARY:October Long Weekend Skiing
DESCRIPTION:Several of us have been invited on a late spring backcountry sk
 iing &amp\; boarding trip alongside the UNSW Winter Unigames team. We will
  enjoy life on the range camping on Carruthers Creek\, and scare ourselves
  silly on the steepest east facing chutes Australia has to offer\, in the 
 glacial cirques of Club and Blue Lake.\n\nAttending club members will be J
 ames Bultitude\, Liam Filson\, Matt Hamlyn\, Anthony Knittel\, Nick Tang\,
  and myself.
CATEGORIES:Backcountry
LOCATION:Charlotte Pass\, Kosciuszko Road\, Charlotte Pass\, NSW\, Australi
 a
GEO:-36.431087;148.337540
X-APPLE-STRUCTURED-LOCATION;VALUE=URI;X-ADDRESS=Kosciuszko Road\, Charlotte
  Pass\, NSW\, Australia;X-APPLE-RADIUS=100;X-TITLE=Charlotte Pass:geo:-36.
 431087,148.337540
END:VEVENT
END:VCALENDAR