BEGIN:VCALENDAR
VERSION:2.0
PRODID:-//wp-events-plugin.com//7.2.3.1//EN
TZID:Australia/Sydney
X-WR-TIMEZONE:Australia/Sydney
BEGIN:VEVENT
UID:2417@unswoc.org
DTSTART;VALUE=DATE:20190616
DTEND;VALUE=DATE:20190617
DTSTAMP:20190601T073351Z
URL:https://unswoc.org/wordpress/events/oaks-mountain-biking-beginner/
SUMMARY:Oaks Mountain Biking (Beginner)
DESCRIPTION:Join sibling team Lucy and Safety Dave for classic ride along t
 he oaks trail in the bluies. The trail runs from Woodford to Glenbrook (ye
 s\, trending downhill). The majority of the track in fire trail\, but ends
  with a fab section of single track.\n\nPacking List:\n\n 	A mountain bike
 ! Yes\, a good start.\n 	Bike spares (e.g. spare tube)\n 	2L water\n 	Food
 \n 	Opal card\n\nPlan:\n\n 	If driving to mts\, meet at Glenbrook at jump 
 on train to Woodford\n 	If training to mts\, meet at Woodford station\n 	S
 tart time in mountains likely mid-morning\, 10ish TBC\n
CATEGORIES:Mountain Biking
END:VEVENT
END:VCALENDAR