BEGIN:VCALENDAR
VERSION:2.0
PRODID:-//wp-events-plugin.com//7.2.3.1//EN
TZID:Australia/Sydney
X-WR-TIMEZONE:Australia/Sydney
BEGIN:VEVENT
UID:2264@unswoc.org
DTSTART:20180721T210000Z
DTEND:20180722T060000Z
DTSTAMP:20180720T063353Z
URL:https://unswoc.org/wordpress/events/o-weeek-climbing-trip/
SUMMARY:O-Week Climbing Trip
DESCRIPTION:[s2If !current_user_can(access_s2member_level1)][/s2If]\n\nCome
  join Tad\, Brendon and Hayden for an outdoor climbing trip next Sunday th
 e 22nd!\n\nLocation is TBA\, most likely Sutherland\, or Nowra (depends on
  signups/weather/effort). We don't want to turn blue in the blue mountains
  :P\n\n*Location is now Bangor west crag*\n\nPlease fill out the form belo
 w with details car\, experience etc. Shoot Hayden a message on facebook if
  you have any questions.\n\nYou will need:\n\n 	*Helmet\n 	*Harness\n 	*Be
 lay device + Locking Carabiner\n 	*Climbing Shoes\n 	Food + water (at leas
 t 1.5L!!)\n 	Backpack to carry the above\n 	warm clothing most likely!\n 	
 petrol money for you driver\n 	good vibes\n\n*These items can be borrowed 
 from the club\nPlease either message me or put in the comments if you requ
 ire any gear!\n\n&nbsp\;
CATEGORIES:Outdoor Climbing
END:VEVENT
END:VCALENDAR