BEGIN:VCALENDAR
VERSION:2.0
PRODID:-//wp-events-plugin.com//7.2.3.1//EN
TZID:Australia/Sydney
X-WR-TIMEZONE:Australia/Sydney
BEGIN:VEVENT
UID:285@unswoc.org
DTSTART;VALUE=DATE:20130823
DTEND;VALUE=DATE:20130826
DTSTAMP:20130819T201356Z
URL:https://unswoc.org/wordpress/events/nsw-splitfest/
SUMMARY:NSW Splitfest 
DESCRIPTION:A bunch of us from UNSWOC are headed down for the second NSW Sp
 litfest. Details here.
CATEGORIES:Backcountry
LOCATION:Island Bend \, \, 
GEO:0.000000;0.000000
X-APPLE-STRUCTURED-LOCATION;VALUE=URI;X-ADDRESS=\, ;X-APPLE-RADIUS=100;X-TI
 TLE=Island Bend :geo:0.000000,0.000000
END:VEVENT
END:VCALENDAR