BEGIN:VCALENDAR
VERSION:2.0
PRODID:-//wp-events-plugin.com//7.2.3.1//EN
TZID:Australia/Sydney
X-WR-TIMEZONE:Australia/Sydney
BEGIN:VEVENT
UID:2462@unswoc.org
DTSTART;TZID=Australia/Sydney;VALUE=DATE:20190921
DTEND;TZID=Australia/Sydney;VALUE=DATE:20190923
DTSTAMP:20190826T092051Z
URL:https://unswoc.org/wordpress/events/nsw-rogaining-champs-yengo-nationa
 l-park/
SUMMARY:NSW Rogaining Champs\, Yengo National Park!
DESCRIPTION:It’s time for the Rogaine comeback!\n\nFor those who have par
 ticipated in an UNSWOC pubgaine\, this is similar\, just substitute the ci
 ty for bush\, the pubs for features on a map and the beer for an electroni
 c tag.\n\nDetails about rogaining and the event can be found here: https:/
 /nswrogaining.org/AboutEvents/Events/19NC/19NC.htm\n\nRogaine events are t
 he perfect opportunity to put your navigation to the test. There is an 8hr
  and 24hr event\, please specify whether you have a preference in the sign
  up. Also\, in the comments please specify what food you would bring to sh
 are! To encourage those who have (and have not!) been taking part in the n
 avigation workshops to continue to improve their skills the club will be s
 ubsidizing half of the entry cost! An opportunity not to be missed!!\n\nSi
 gn up here if you’re keen and I’ll figure out the teams from there. An
 y questions\, send me a message on facebook :)\n\n[caption id="attachment_
 10377" align="aligncenter" width="1024"] Start of the Paddy Pallin 2019 Ro
 gaine.[/caption]\n\n&nbsp\;
CATEGORIES:Rogaining
END:VEVENT
BEGIN:VTIMEZONE
TZID:Australia/Sydney
X-LIC-LOCATION:Australia/Sydney
BEGIN:STANDARD
DTSTART:20190407T020000
TZOFFSETFROM:+1100
TZOFFSETTO:+1000
TZNAME:AEST
END:STANDARD
END:VTIMEZONE
END:VCALENDAR