BEGIN:VCALENDAR
VERSION:2.0
PRODID:-//wp-events-plugin.com//7.2.3.1//EN
TZID:Australia/Sydney
X-WR-TIMEZONE:Australia/Sydney
BEGIN:VEVENT
UID:2678@unswoc.org
DTSTART;TZID=Australia/Sydney;VALUE=DATE:20200905
DTEND;TZID=Australia/Sydney;VALUE=DATE:20200907
DTSTAMP:20200803T000103Z
URL:https://unswoc.org/wordpress/events/nsw-rogaining-champs-gundabooka-na
 tional-park/
SUMMARY:NSW Rogaining Champs\, Gundabooka National Park!
DESCRIPTION:It’s that time of year for some quality Rogaining!\n\nDue to 
 UNSWOC success in the NSW Rogaining Champs last year\, participation is be
 ing encouraged again this year :D\n\nDetails about rogaining and the event
  can be found here: https://nswrogaining.org/wpblog/2020-nsw-champs/\n\nRo
 gaine events are the perfect opportunity to put your navigation to the tes
 t. There is an 8hr and 24hr event\, please specify whether you have a pref
 erence in the sign up. Also\, in the comments please specify whether you w
 ould be looking to stop over somewhere on the way such as the Warrumbungle
 s - it's a long drive to Gundabooka!\n\nTo encourage UNSWOC members to con
 tinue to improve their navigation skills the club will be subsidizing half
  of the early bird entry cost! An opportunity not to be missed!! Note\, ea
 rly bird entry closes on the 8th August.\n\nSign up here if you’re keen 
 and I’ll figure out the teams from there. Any questions\, send me a mess
 age on facebook :)\n\nP.S. Don't miss out on the navigation workshops that
  will be running in the lead up to the Rogaine event.\n\n[caption id="atta
 chment_10377" align="aligncenter" width="1024"] Start of the Paddy Pallin 
 2019 Rogaine back in the days when social distancing wasn't a thing...[/ca
 ption]\n\n&nbsp\;
CATEGORIES:Rogaining
END:VEVENT
BEGIN:VTIMEZONE
TZID:Australia/Sydney
X-LIC-LOCATION:Australia/Sydney
BEGIN:STANDARD
DTSTART:20200405T020000
TZOFFSETFROM:+1100
TZOFFSETTO:+1000
TZNAME:AEST
END:STANDARD
END:VTIMEZONE
END:VCALENDAR