BEGIN:VCALENDAR
VERSION:2.0
PRODID:-//wp-events-plugin.com//7.2.3.1//EN
TZID:Australia/Sydney
X-WR-TIMEZONE:Australia/Sydney
BEGIN:VEVENT
UID:2037@unswoc.org
DTSTART:20160721T220000Z
DTEND:20160724T100000Z
DTSTAMP:20160720T022534Z
URL:https://unswoc.org/wordpress/events/nowra/
SUMMARY:Nowra
DESCRIPTION:\n\nTime to send those pesky projects you have had brewing all 
 winter!\n\nThis is NOT a beginner trip\, you must be able to lead\, lead b
 elay\, have your own gear\, and make your own way there.\n\nWe will be dow
 n at Thompson's sport climbing from Thursday night until Sunday sometime. 
 BYO water\, food and toilet paper and fire wood would be appreciated as th
 ere is not much there.  We will be camping up the top of Thompson's point
  and will try to get a spot with a fire. Some tradventurers are also headi
 ng to Point Perp for the last day or two.\n\nNo registrations needed but s
 hoot me a message if you are a keen bean!
ATTACH;FMTTYPE=image/jpeg:https://unswoc.org/wordpress/wp-content/uploads/
 2016/07/1074647_10200932145320578_793360193_o.jpg
CATEGORIES:Outdoor Climbing
END:VEVENT
END:VCALENDAR