BEGIN:VCALENDAR
VERSION:2.0
PRODID:-//wp-events-plugin.com//7.2.3.1//EN
TZID:Australia/Sydney
X-WR-TIMEZONE:Australia/Sydney
BEGIN:VEVENT
UID:488@unswoc.org
DTSTART:20140605T130000Z
DTEND:20140608T130000Z
DTSTAMP:20140604T003218Z
URL:https://unswoc.org/wordpress/events/nowra-intermediate-climbing-long-w
 eekend/
SUMMARY:Nowra Intermediate Climbing - Long Weekend
DESCRIPTION:Hey guys\,\n\nA group of us are heading to Nowra over the long 
 weekend to check out a few different crags including Thompson's Point and 
 the north side of the river. We'll be staying at the Ski Park but everyone
  is responsible for making sure there is still available camping space if 
 you want to join. Also\, everyone must arrange their own gear\, have a cli
 mbing partner and be able to handle themselves lead climbing outdoors.
CATEGORIES:Outdoor Climbing
END:VEVENT
END:VCALENDAR