BEGIN:VCALENDAR
VERSION:2.0
PRODID:-//wp-events-plugin.com//7.2.3.1//EN
TZID:Australia/Sydney
X-WR-TIMEZONE:Australia/Sydney
BEGIN:VEVENT
UID:558@unswoc.org
DTSTART;VALUE=DATE:20140831
DTEND;VALUE=DATE:20140901
DTSTAMP:20140829T222650Z
URL:https://unswoc.org/wordpress/events/nowra-climbing/
SUMMARY:Nowra Climbing
DESCRIPTION:Climbing trip to Nowra. Need some level of experience with clim
 bing indoors. If you want to come along and have your own gear and transpo
 rt just send me a message and I can add a spot for you.\n\nKylie\n\n042297
 6824
CATEGORIES:Outdoor Climbing
LOCATION:Thompson's Point\, Yalwal road \, Nowra\, Australia
GEO:-34.891788;150.589706
X-APPLE-STRUCTURED-LOCATION;VALUE=URI;X-ADDRESS=Yalwal road \, Nowra\, Aust
 ralia;X-APPLE-RADIUS=100;X-TITLE=Thompson's Point:geo:-34.891788,150.58970
 6
END:VEVENT
END:VCALENDAR