BEGIN:VCALENDAR
VERSION:2.0
PRODID:-//wp-events-plugin.com//7.2.3.1//EN
TZID:Australia/Sydney
X-WR-TIMEZONE:Australia/Sydney
BEGIN:VEVENT
UID:2925@unswoc.org
DTSTART;TZID=Australia/Sydney:20210904T120000
DTEND;TZID=Australia/Sydney:20210918T120000
DTSTAMP:20210919T031123Z
URL:https://unswoc.org/wordpress/events/now-open-unswoc-scavenger-hunt-pha
 se-1-crosswords/
SUMMARY:[NOW OPEN!] UNSWOC Scavenger Hunt Phase 1: Crosswords!
DESCRIPTION:Hullo friends\,\n\nWe will be releasing a series of crosswords\
 , quizzes and other shenanigans over the course of the next few weeks. Joi
 n in for the chance to win prizes\, and more importantly\, to stave off bo
 redom! The quicker and more accurate the answers\, the higher the points. 
 Points will be tallied up (or multiplied Olympics climbing style - dependi
 ng how devilish we feel) at the end to determine the best hunting scavenge
 rs! Don't worry if you're new to the club\, there'll be separate categorie
 s for newbies &amp\; club vets\, so give it your best shot!\n\nHere's a sn
 eak peak of the crossword to be released...\n\n\n\nKeep an eye on this pos
 t\, link &amp\; password will be released on Saturday midday :)\n\n[UPDATE
 ]\nScores will be based on time submitted and accuracy. Resubmissions welc
 ome\, however there will be penalties for each resubmission : :). Competit
 ion will close next Saturday midday (11/09/2021)\, but crossword link will
  still be available for some casual fun. Enjoy!\n\nLink to Crossword\n\nPa
 ssword: UNSWOC2021\n\n&nbsp\;\n\n[UPDATE and SOLUTIONS]\n\n#Crossword Resu
 lts! Thanks all for playing\, it was a very hard crossword\, but I hoped y
 ou enjoyed it (and perhaps learnt something new!) Prizes to be announced b
 y Oliver Nicholls\n\nNow for some of my favourite answers! (which received
  bonus pts):\n\nFavourite climbing spot in Victoria\, facing Potential Clo
 sures: Arapailes (I appreciate the attempt to force Arapiles to fit)\n\nAc
 tively and Passively providing Fall Protection: Air\n\nYou can get this fo
 r 15% off at Climbing Anchors (4 + 4 letters): Clubcard\n\nDeep water solo
 : Psychotic Actively and Passively providing Fall Protection Ben\n\nVetera
 ns Category: Final Scores:\n\n1. Stephen Roche 72\n\n2. Jenny Stansby 68\n
 \n2. Hayden Lobry 68\n\n3. Nadav Cohen 65\n\n3. Ian Li 65\n\n4. Zenon Plat
 ritis 62\n\n5. James Fisher 61\n\n6. Bennett Frerck 52\n\n7. Nicolas Di Ca
 mpli 40\n\n8. Peta Somerville 32\n\nNewbies Category: ##Final Scores: \n\n
 1. Musfiqur R Sakib 48\n\n
CATEGORIES:Social Event
END:VEVENT
BEGIN:VTIMEZONE
TZID:Australia/Sydney
X-LIC-LOCATION:Australia/Sydney
BEGIN:STANDARD
DTSTART:20210404T020000
TZOFFSETFROM:+1100
TZOFFSETTO:+1000
TZNAME:AEST
END:STANDARD
END:VTIMEZONE
END:VCALENDAR