BEGIN:VCALENDAR
VERSION:2.0
PRODID:-//wp-events-plugin.com//7.2.3.1//EN
TZID:Australia/Sydney
X-WR-TIMEZONE:Australia/Sydney
BEGIN:VEVENT
UID:1511@unswoc.org
DTSTART;VALUE=DATE:20151203
DTEND;VALUE=DATE:20151206
DTSTAMP:20160604T024449Z
URL:https://unswoc.org/wordpress/events/northern-beaches-entrance-overtwon
 ights-camping-trip/
SUMMARY:Northern Beaches -&gt\; The Entrance overtwonights camping trip
DESCRIPTION:Summer is here!! and so is your opportunity to soak up some sh
 ortwave radiation from that shiny hydrogen fusion reactor in the sky :)\n\
 nHere is the trip plan:\n\nFirst day: we are gonna start around late morni
 ng\, walk from something like Avalon beach (you get L90 bus straight there
  from city) to Palm beach\, take the ferry to west head\, hike maybe 2km 
 ish to top of a hill\, find some space and camp out.\n\nSecond day: we're 
 gonna ferry through broken bay\, land around wagstaffe\, hike around then 
 snorkel at killcare beach (there's a snorkel spot if I recall correctly) a
 nd camp somewhere there for the night\n\nOn the third day\, we'll get to T
 he Entrance\, look around\, (there's a snorkel spot but I can't remember w
 here exactly) maybe hire some kayaks\, eventually coming back to city by t
 rain before complete darkness\n\nContact Victor@ 0431 895 316 if you have 
 any questions :)\n\nNOTES\n\nCan someone bring a lantern? Let me know beca
 use we can't have a camp fire unfortunately\n\nSince this is a beach trip\
 , the DATE MAY CHANGE +- 1-2 DAYS IF WE HAVE BAD WEATHER\n\nBring sun pr
 otection\, aeroguard and and snorkel gear but think twice about fins(too h
 eavy)\n\nThe entire route is close to public transport so you can bail/joi
 n anytime\n\nwe will be visiting a supermarket each day. Don't worry abou
 t starvation but do pack calorie dense snacks\n\nIf this is your first tim
 e camping/hiking\, see this list from ages ago http://unswoc.org/wordpres
 s/events/katoomba-to-wentworth-falls-hike/ (thanks allie!) except for don'
 t bring winter gear obviously\, 3L water instead of 5L\, and 10000 metric 
 litres of sunscreen\n\n&nbsp\;\n\n
ATTACH;FMTTYPE=image/jpeg:https://unswoc.org/wordpress/wp-content/uploads/
 2015/11/image.jpeg
END:VEVENT
END:VCALENDAR