BEGIN:VCALENDAR
VERSION:2.0
PRODID:-//wp-events-plugin.com//7.2.3.1//EN
TZID:Australia/Sydney
X-WR-TIMEZONE:Australia/Sydney
BEGIN:VEVENT
UID:2157@unswoc.org
DTSTART:20170709T210000Z
DTEND:20170720T120000Z
DTSTAMP:20170708T020130Z
URL:https://unswoc.org/wordpress/events/north-qld-caving/
SUMMARY:North QLD Caving
DESCRIPTION:10 days of driving/camping/caving in remote-isa QLD from 10 to 
 20 July. We have access to the Sports Association car which is a sweet 4WD
  - perfect for road tripping (If it's more than a few people interested\, 
 however\, you gotta bring your own cars along as places are limited). We h
 ave negotiated access and GPS locations of Chillagoe Caves\, and are work
 ing on Broken Rives Caves too.\n\n\nWho can come along? Unfortunately this
  is not a beginners trip\, so people with experience only! Experience mean
 s rope skills (ability to rig anchors at a minimum)\, and preferably havin
 g spent some time underground. HOWEVER\, I am running a small trip to Wee 
 Jasper caves on 5-7 July\, so if you're not quite experienced enough curre
 ntly\, maybe come along and we'll see how you do.\n\nHow to join up? Press
  the button below! Include your relevant outdoors experience in the commen
 ts section.\n\nIt's going to be great\, hopefully see you there too!\n\n
ATTACH;FMTTYPE=image/jpeg:https://unswoc.org/wordpress/wp-content/uploads/
 2017/07/QC0083-Chillagoe-Mungana-Caves-National-Park-QLD-_DSC2971.jpg
CATEGORIES:Caving
END:VEVENT
END:VCALENDAR