BEGIN:VCALENDAR
VERSION:2.0
PRODID:-//wp-events-plugin.com//7.2.3.1//EN
TZID:Australia/Sydney
X-WR-TIMEZONE:Australia/Sydney
BEGIN:VEVENT
UID:498@unswoc.org
DTSTART;VALUE=DATE:20141004
DTEND;VALUE=DATE:20141007
DTSTAMP:20140921T025546Z
URL:https://unswoc.org/wordpress/events/north-black-range-bouldering-festi
 val/
SUMMARY:North Black Range Bouldering Festival
DESCRIPTION:UNSWOC Boulderers\n\nThere is a Bouldering festival held over t
 he October long weekend break here:\n\nhttp://www.thecrag.com/climbing/aus
 tralia/black-range-bouldering\n\nSome spectacular bouldering on recently d
 eveloped problems.\n\nWe will be camping\, so make sure you get a warm sle
 eping bag (it gets COLD down that way!). Some parts of the tracks require 
 4WD access so it is important to organise a lift on the club page and sign
  up here to ensure you can get to the crags!\n\nMore info here. https://w
 ww.facebook.com/northblackrangeboulderingfestival2013
CATEGORIES:Outdoor Climbing,Social Event
LOCATION:\, \, 
X-APPLE-STRUCTURED-LOCATION;VALUE=URI;X-ADDRESS=\, ;X-APPLE-RADIUS=100;X-TI
 TLE=:geo:0,0
END:VEVENT
END:VCALENDAR