BEGIN:VCALENDAR
VERSION:2.0
PRODID:-//wp-events-plugin.com//7.2.3.1//EN
TZID:Australia/Sydney
X-WR-TIMEZONE:Australia/Sydney
BEGIN:VEVENT
UID:1574@unswoc.org
DTSTART;VALUE=DATE:20160217
DTEND;VALUE=DATE:20160218
DTSTAMP:20160216T231006Z
URL:https://unswoc.org/wordpress/events/night-moves-the-villas/
SUMMARY:Night Moves - The Villas
DESCRIPTION:The weekly night bouldering sessions organised by Matt Minus ar
 e starting back as it is getting cooler in the evenings! This session is a
 t The Villas\, there are limited beginner problems\, so this one is open t
 o intermediate and above. No registration required\, further details on th
 e UNSWOC Bouldering page:\n\nwww.facebook.com/groups/771206219596888\n\n&n
 bsp\;
ATTACH;FMTTYPE=image/jpeg:https://unswoc.org/wordpress/wp-content/uploads/
 2016/02/night-moves.jpg
CATEGORIES:Outdoor Climbing
END:VEVENT
END:VCALENDAR