BEGIN:VCALENDAR
VERSION:2.0
PRODID:-//wp-events-plugin.com//7.2.3.1//EN
TZID:Australia/Sydney
X-WR-TIMEZONE:Australia/Sydney
BEGIN:VEVENT
UID:2155@unswoc.org
DTSTART:20170526T073000Z
DTEND:20170526T103000Z
DTSTAMP:20170522T141314Z
URL:https://unswoc.org/wordpress/events/night-bouldering-frontlines/
SUMMARY:Night bouldering at Frontlines
DESCRIPTION:With chilly nights comes primo friction. Alie and I will be run
 ning a night bouldering trip this Friday\, leaving uni at 6:30pm. If you h
 aven't been to Frontlines before\, it's got a great range of grades for ev
 ery climber.\n\nYou can check out the routes here: https://www.thecrag.com
 /climbing/australia/north-west/the-frontline\n\nWe will be bringing lights
  so you can see what you're climbing\, but also bring a head torch! Once w
 e've got the numbers\, we can sort out cars.\n\nGear list:\n\n	Climbing sh
 oes\n	Chalk\n	Head torch\n	Warm jacket\n	Water/snacks\n	Jeans\n	Beanie\n	S
 ome dollars for your driver\n\nAlie &amp\; Vicks
CATEGORIES:Bouldering
END:VEVENT
END:VCALENDAR