BEGIN:VCALENDAR
VERSION:2.0
PRODID:-//wp-events-plugin.com//7.2.3.1//EN
TZID:Australia/Sydney
X-WR-TIMEZONE:Australia/Sydney
BEGIN:VEVENT
UID:3630@unswoc.org
DTSTART;TZID=Australia/Sydney:20250810T080000
DTEND;TZID=Australia/Sydney:20250810T193000
DTSTAMP:20250808T011851Z
URL:https://unswoc.org/wordpress/events/nepean-whitewater-kayaking/
SUMMARY:Nepean Whitewater Kayaking
DESCRIPTION:What's up Boaters\,\n\nThere's been plenty of rain over the pas
 t week or two and the river gods are pleased with our patience.\n\nWe'll b
 e heading out this Sunday for a paddle out at Penrith Weir. The section we
  are doing is good for beginners and upper beginners as well as intermedia
 te paddlers who are keen to get on the water. If we haven't paddled togeth
 er\, please message me on Facebook to chat about whether this paddle is su
 itable for you - it will primarily depend on how many experienced paddlers
  are able to join as a matter of safety.\n\nWe will meet in the morning ou
 t at Penrith Weir and do a couple laps\, spend time playing\, and practice
  useful skills.\n\nWhat gear the club can provide:\n\nBoat\, paddle\, PFD\
 , helmet\, spray deck\n\nWhat you need to bring\n\nWarm clothes for after 
 the river\, wet clothes for on the river\, wetsuit or dry top\, shoes for 
 wearing in the boat with good grip\, dry bag\, snacks\, lunch\, water bott
 le with carabiner.\n\nIn the question box\, please tell me your paddling e
 xperience and what is your favorite snack for the river.
CATEGORIES:Whitewater Kayaking
LOCATION:https://maps.app.goo.gl/7qGk5hekJvZ7Zq4d7
END:VEVENT
BEGIN:VTIMEZONE
TZID:Australia/Sydney
X-LIC-LOCATION:Australia/Sydney
BEGIN:STANDARD
DTSTART:20250406T020000
TZOFFSETFROM:+1100
TZOFFSETTO:+1000
TZNAME:AEST
END:STANDARD
END:VTIMEZONE
END:VCALENDAR