BEGIN:VCALENDAR
VERSION:2.0
PRODID:-//wp-events-plugin.com//7.2.3.1//EN
TZID:Australia/Sydney
X-WR-TIMEZONE:Australia/Sydney
BEGIN:VEVENT
UID:3292@unswoc.org
DTSTART;TZID=Australia/Sydney;VALUE=DATE:20230715
DTEND;TZID=Australia/Sydney;VALUE=DATE:20230717
DTSTAMP:20230714T081048Z
URL:https://unswoc.org/wordpress/events/navshield-2023-advanced-rogaine-24
 -hrs/
SUMMARY:Navshield 2023 - Advanced Rogaine - 24 hrs
DESCRIPTION:Do you like to rogaine? Do you like it enough for 24hrs of non-
 stop bush bashing fun?\n\nNavshield is an extended rogaine race for 24hrs 
 held in Gouburn Rivers National Parks. More details? Bush Search and Rescu
 e hosts Navshield.\n\nNavshield is an advanced trip held by Emergency Serv
 ices each year. Only experienced walkers confident in navigation will be a
 ble to attend.\n\n&nbsp\;\n\n&nbsp\;
CATEGORIES:Rogaining
LOCATION:http://32.39910°S,%20150.26761°E
END:VEVENT
BEGIN:VTIMEZONE
TZID:Australia/Sydney
X-LIC-LOCATION:Australia/Sydney
BEGIN:STANDARD
DTSTART:20230402T020000
TZOFFSETFROM:+1100
TZOFFSETTO:+1000
TZNAME:AEST
END:STANDARD
END:VTIMEZONE
END:VCALENDAR