BEGIN:VCALENDAR
VERSION:2.0
PRODID:-//wp-events-plugin.com//7.2.3.1//EN
TZID:Australia/Sydney
X-WR-TIMEZONE:Australia/Sydney
BEGIN:VEVENT
UID:3182@unswoc.org
DTSTART;TZID=Australia/Sydney:20230223T173000
DTEND;TZID=Australia/Sydney:20230223T200000
DTSTAMP:20230211T054439Z
URL:https://unswoc.org/wordpress/events/navigation-workshop-at-the-ledge/
SUMMARY:Navigation Workshop at The Ledge
DESCRIPTION:Hey everyone!\n\nHave you ever got lost while bushwalking or wh
 ile on the approach to the crag or canyon? Want to get into the sport of o
 rienteering? Then come along to the nav workshop at the ledge to learn the
  basics of trying not to get lost!\n\n\n\nWe will try to cover the followi
 ng techniques in the time we have:\nGeneral Navigation\nBasics of a compas
 s\n\nBasics of a map\n\nMagnetic declination\n\nOrientation of map\n\nBack
  bearings\n\nTriangulation\n\n&nbsp\;\nOrienteering Specifics\nAttack poin
 ts\n\nCatching features\n\nHandrails\n\nAiming off\n\nPacing\n\n&nbsp\;\n\
 nThere will also be a orienteering activity the follow weekend for you to 
 utilise the skills you've learnt.\n\n&nbsp\;\n\nBring along a compass (mig
 ht be able to borrow from gear cupboard) \, roamer (if you have one)\, som
 e string and any questions you have! Also let me know why you want to lear
 n navigation in the comments.\n\n&nbsp\;\n\nSee you there\n\nAlfie
CATEGORIES:Bushwalking,Orienteering,Rogaining
END:VEVENT
BEGIN:VTIMEZONE
TZID:Australia/Sydney
X-LIC-LOCATION:Australia/Sydney
BEGIN:DAYLIGHT
DTSTART:20221002T030000
TZOFFSETFROM:+1000
TZOFFSETTO:+1100
TZNAME:AEDT
END:DAYLIGHT
END:VTIMEZONE
END:VCALENDAR