BEGIN:VCALENDAR
VERSION:2.0
PRODID:-//wp-events-plugin.com//7.2.3.1//EN
TZID:Australia/Sydney
X-WR-TIMEZONE:Australia/Sydney
BEGIN:VEVENT
UID:2768@unswoc.org
DTSTART;TZID=Australia/Sydney:20201118T183000
DTEND;TZID=Australia/Sydney:20201118T203000
DTSTAMP:20201114T213334Z
URL:https://unswoc.org/wordpress/events/navigation-workshop-18th-nov/
SUMMARY:Navigation workshop 18th Nov
DESCRIPTION:Wednesday 18th November – Centennial Park\n\nHey everyone\,\n
 \nI will be running a navigation workshop in preparation for the Rogaine a
 t the weekend (and the upcoming canyoning season!).\n\nThe plan is to meet
  at the Randwick gates of Centennial Park at 6.30pm and then we'll try to 
 cover the following topics:\n\n-Pacings\n\n-Timings\n\n-Bearings\n\n-Aimin
 g off\n\n-Catching points\n\n-Handrailing\n\n-Route planning\n\n-Relating 
 map to ground\n\nYou will need:\n\n 	Compass\n 	Headtorch\n\nLet me know y
 ou nav. experience in the comments and whether or not you've signed up for
  the rogaine!\n\n&nbsp\;\n\n
CATEGORIES:Training
END:VEVENT
BEGIN:VTIMEZONE
TZID:Australia/Sydney
X-LIC-LOCATION:Australia/Sydney
BEGIN:DAYLIGHT
DTSTART:20201004T030000
TZOFFSETFROM:+1000
TZOFFSETTO:+1100
TZNAME:AEDT
END:DAYLIGHT
END:VTIMEZONE
END:VCALENDAR