BEGIN:VCALENDAR
VERSION:2.0
PRODID:-//wp-events-plugin.com//7.2.3.1//EN
TZID:Australia/Sydney
X-WR-TIMEZONE:Australia/Sydney
BEGIN:VEVENT
UID:3424@unswoc.org
DTSTART;TZID=Australia/Sydney:20240605T180000
DTEND;TZID=Australia/Sydney:20240605T200000
DTSTAMP:20240604T123611Z
URL:https://unswoc.org/wordpress/events/navigation-night-wednesday-5th-jun
 e-6pm/
SUMMARY:Navigation Night - Wednesday 5th June 6pm
DESCRIPTION:If you’re new to rogaining or need a refresher on navigation 
 skills\, this is for you! It’ll also be a good place to find people for 
 your team :)\n\nEmily and Linna will be running a workshop in preparation 
 for the upcoming Paddy Pallin Rogaine taking place on Sunday the 16th of 
 June.\n\nThe workshop will cover route planning and key navigation skills
  in the context of Rogaining\, including:\n\n 	What is Rogaining?\n 	Rogai
 ning strategy and gear\n 	How to read a topographic map\n 	Bearings and co
 nverting them - grid and magnetic\n 	Pacing - how many steps you take to w
 alk 100m\n\n\n\nWe’ll be doing theory in a classroom at UNSW Law Buildin
 g (room TBA) then heading outside to take some bearings and pacings.\n\nPl
 ease bring these if you have them:\n\n 	Compass\n 	Headtorch\n\nHope to se
 e you on Wednesday night\, all is welcome!\n\nIf you’re interested in re
 ading more about how to prepare for a Rogaine\, check out this webpage her
 e.\n\nP.S. Don't forget to sign up here for the Paddy Pallin Rogaine\, re
 gistrations close on the 9th of June!\n\n**Remember to log into your accou
 nt to sign up below!**
CATEGORIES:Rogaining,Training
LOCATION:https://maps.app.goo.gl/NSfTqxXD5J3mMsZg7
END:VEVENT
BEGIN:VTIMEZONE
TZID:Australia/Sydney
X-LIC-LOCATION:Australia/Sydney
BEGIN:STANDARD
DTSTART:20240407T020000
TZOFFSETFROM:+1100
TZOFFSETTO:+1000
TZNAME:AEST
END:STANDARD
END:VTIMEZONE
END:VCALENDAR