BEGIN:VCALENDAR
VERSION:2.0
PRODID:-//wp-events-plugin.com//7.2.3.1//EN
TZID:Australia/Sydney
X-WR-TIMEZONE:Australia/Sydney
BEGIN:VEVENT
UID:3023@unswoc.org
DTSTART;TZID=Australia/Sydney:20220608T180000
DTEND;TZID=Australia/Sydney:20220608T200000
DTSTAMP:20220606T123829Z
URL:https://unswoc.org/wordpress/events/navigation-night-8th-june-2022-6pm
 /
SUMMARY:Navigation Night - 8th June 2022 - 7.30pm
DESCRIPTION:Please note: updated time of 7.30pm!\nWednesday 8th June – La
 w Building 301\, UNSW - 7.30pm\n\nOliver and I will be running a navigatio
 n night in preparation for the upcoming Paddy Pallin Rogaine that's takin
 g place on the 19th June.\n\nThe focus of the session will be route planni
 ng and key navigation skills in the context of Rogaining. Some light readi
 ng to give you an idea of what we'll be covering can be found on the follo
 wing website: https://nswrogaining.org/AboutRogaining/Novices/WhatSkills.h
 tm\n\nWe'll meet in the Law Building\, room 301 at 6pm and will spend some
  time going through what Rogaining is all about\, covering some useful tip
 s and tricks. We will then go outside and measure everyone's pacing for 10
 0m (i.e. how many steps it takes for you to walk 100m)\, I'll explain why 
 that's useful to know\, and if there's time we'll practice some bearings\,
  with the use of a compass.\n\nYou will need:\n\n 	Warm clothes (essential
 )\n\nPlease also bring the following if you can:\n\n 	Compass\n 	Headtorch
 \n\nHope to see you on Wednesday night\, all welcome!\n\nP.S. Don't forget
  to sign up here for the Paddy Pallin Rogaine (taking place on the 19th J
 une) by Friday 10th June at the latest!\n\n
CATEGORIES:Rogaining,Training
END:VEVENT
BEGIN:VTIMEZONE
TZID:Australia/Sydney
X-LIC-LOCATION:Australia/Sydney
BEGIN:STANDARD
DTSTART:20220403T020000
TZOFFSETFROM:+1100
TZOFFSETTO:+1000
TZNAME:AEST
END:STANDARD
END:VTIMEZONE
END:VCALENDAR