BEGIN:VCALENDAR
VERSION:2.0
PRODID:-//wp-events-plugin.com//7.2.3.1//EN
TZID:Australia/Sydney
X-WR-TIMEZONE:Australia/Sydney
BEGIN:VEVENT
UID:2455@unswoc.org
DTSTART;TZID=Australia/Sydney:20190821T183000
DTEND;TZID=Australia/Sydney:20190821T203000
DTSTAMP:20190909T002218Z
URL:https://unswoc.org/wordpress/events/navigation-course/
SUMMARY:Navigation course part I
DESCRIPTION:Note\, it is expected that you attend all the workshops as they
  cover different topics. Feel free to message me if you’ve got any quest
 ions!!\n\nWednesday 21st August – UNSW – Jenny and Scott\n\n-map readi
 ng basics (scales\, symbols\, contours\, grids\, features)\n\n-compasses a
 nd bearings\n\nWednesday 28th August – Centennial Park – Jenny and Ali
 e\n\n-relating map to ground\, pacing\n\n-uses and limitations of GPS on a
  smartphone\n\nWednesday 4th September – UNSW – Jenny and Ash\n\n-rout
 e planning\, route choice\, estimating time and distance\n\n-catching poin
 ts\, aiming off\, handrails\, relocation\n\nFriday 13th September – mini
  Rogaine (location TBC)\n\nPut your newly learned skills to the test with 
 an UNSWOC mini Rogaine\, all welcome! Prizes to be won!!\n\nSaturday 21st 
 September – NSW Rogaine Champs. Yengo National Park\n\nWe’ll get some 
 UNSWOC teams together to put that navigation into practice out in the bush
 !\n\n&nbsp\;\n\n
CATEGORIES:Training
END:VEVENT
BEGIN:VTIMEZONE
TZID:Australia/Sydney
X-LIC-LOCATION:Australia/Sydney
BEGIN:STANDARD
DTSTART:20190407T020000
TZOFFSETFROM:+1100
TZOFFSETTO:+1000
TZNAME:AEST
END:STANDARD
END:VTIMEZONE
END:VCALENDAR