BEGIN:VCALENDAR
VERSION:2.0
PRODID:-//wp-events-plugin.com//7.2.3.1//EN
TZID:Australia/Sydney
X-WR-TIMEZONE:Australia/Sydney
BEGIN:VEVENT
UID:2467@unswoc.org
DTSTART;TZID=Australia/Sydney:20190904T183000
DTEND;TZID=Australia/Sydney:20190904T203000
DTSTAMP:20190909T001205Z
URL:https://unswoc.org/wordpress/events/navigation-course-part-iii/
SUMMARY:Navigation course part III
DESCRIPTION:Wednesday 4th September – UNSW – Jenny and Ash\n\n-route pl
 anning\, route choice\, estimating time and distance\n\n-catching points\,
  aiming off\, handrails\, relocation\n\n&nbsp\;\n\n&nbsp\;\n\n
CATEGORIES:Training
END:VEVENT
BEGIN:VTIMEZONE
TZID:Australia/Sydney
X-LIC-LOCATION:Australia/Sydney
BEGIN:STANDARD
DTSTART:20190407T020000
TZOFFSETFROM:+1100
TZOFFSETTO:+1000
TZNAME:AEST
END:STANDARD
END:VTIMEZONE
END:VCALENDAR