BEGIN:VCALENDAR
VERSION:2.0
PRODID:-//wp-events-plugin.com//7.2.3.1//EN
TZID:Australia/Sydney
X-WR-TIMEZONE:Australia/Sydney
BEGIN:VEVENT
UID:2466@unswoc.org
DTSTART;TZID=Australia/Sydney:20190828T180000
DTEND;TZID=Australia/Sydney:20190828T200000
DTSTAMP:20190909T001617Z
URL:https://unswoc.org/wordpress/events/navigation-course-part-ii/
SUMMARY:Navigation course part II
DESCRIPTION:Wednesday 28th August – Centennial Park – Jenny and Alie\n\
 n-relating map to ground\, pacing\n\n-uses and limitations of GPS on a sma
 rtphone\n\n&nbsp\;\n\n
CATEGORIES:Training
END:VEVENT
BEGIN:VTIMEZONE
TZID:Australia/Sydney
X-LIC-LOCATION:Australia/Sydney
BEGIN:STANDARD
DTSTART:20190407T020000
TZOFFSETFROM:+1100
TZOFFSETTO:+1000
TZNAME:AEST
END:STANDARD
END:VTIMEZONE
END:VCALENDAR