BEGIN:VCALENDAR
VERSION:2.0
PRODID:-//wp-events-plugin.com//7.2.3.1//EN
TZID:Australia/Sydney
X-WR-TIMEZONE:Australia/Sydney
BEGIN:VEVENT
UID:1993@unswoc.org
DTSTART;VALUE=DATE:20160323
DTEND;VALUE=DATE:20160324
DTSTAMP:20160320T221810Z
URL:https://unswoc.org/wordpress/events/navigation-101-beginners-navigatio
 n-workshop/
SUMMARY:Navigation 101 - Beginners Navigation Workshop
DESCRIPTION:I'm going to be running a beginners navigation workshop to go o
 ver some of the fundamental skills of navigation. This will be suitable fo
 r people who have ZERO previous experience or people who might just want s
 ome ideas about how to improve their navigation. While navigation isn't re
 ally a skill that you can master in a classroom\, we will try to cover all
  the basics you need to start practicing this skill yourself.\n\nWe will t
 ry to talk about the following topics:\n\n	Map reading basics\n	Grid vs ma
 gnetic north\n	Compasses and Bearings\n	Route choice\n	Relocation\n\nMeet 
 at the gear cupboard at 7pm and we will find a room from there\n\n&nbsp\;
CATEGORIES:Training
END:VEVENT
END:VCALENDAR