BEGIN:VCALENDAR
VERSION:2.0
PRODID:-//wp-events-plugin.com//7.2.3.1//EN
TZID:Australia/Sydney
X-WR-TIMEZONE:Australia/Sydney
BEGIN:VEVENT
UID:2922@unswoc.org
DTSTART;TZID=Australia/Sydney:20210825T193000
DTEND;TZID=Australia/Sydney:20210825T203000
DTSTAMP:20210824T093837Z
URL:https://unswoc.org/wordpress/events/native-plants-foraging-and-identif
 ication-zoom-trip/
SUMMARY:Native Plants - Foraging and Identification "Zoom Trip"
DESCRIPTION:Hey!\n\nI hope you all are surviving out out there in your newf
 ound domestic lives.\n\nFor those of you who I haven't had a chance to mee
 t yet\, I'm Ben. Outside of canyoning\, climbing and all that good stuff I
  work as an ecologist for a living.\n\nIf your keen and want a little bit 
 more entertainment in your life I will be running a Zoom sesh next Wednesd
 ay on Foraging Native Plants from around 7:30-8:30..... Also feel free to 
 stay on after to just have a catchup with any UNSW mates you havent spoken
  to in a while.\n\nAnyone whos interested can sign up\,\nWhen: 7:30pm\nWhe
 re: https://unsw.zoom.us/j/84350262921?pwd=a2NpUHd4Q21CT1I1Rlp1KzE3ODYxQT0
 9\nPassword: 561941\n&nbsp\;\n\nHope to see you there :)\n\n&nbsp\;\n\n&nb
 sp\;
CATEGORIES:Training
END:VEVENT
BEGIN:VTIMEZONE
TZID:Australia/Sydney
X-LIC-LOCATION:Australia/Sydney
BEGIN:STANDARD
DTSTART:20210404T020000
TZOFFSETFROM:+1100
TZOFFSETTO:+1000
TZNAME:AEST
END:STANDARD
END:VTIMEZONE
END:VCALENDAR