BEGIN:VCALENDAR
VERSION:2.0
PRODID:-//wp-events-plugin.com//7.2.3.1//EN
TZID:Australia/Sydney
X-WR-TIMEZONE:Australia/Sydney
BEGIN:VEVENT
UID:3415@unswoc.org
DTSTART;TZID=Australia/Sydney:20240420T100000
DTEND;TZID=Australia/Sydney:20240420T160000
DTSTAMP:20240416T043326Z
URL:https://unswoc.org/wordpress/events/narrabeen-saturday-begginer-sport-
 climbing-20-4-24/
SUMMARY:Narrabeen Saturday Begginer Sport Climbing 20/4/24 FULL
DESCRIPTION:Hi all! Jemma and I (Gabriel) will be running a Sport Climbing 
 trip to Narrabeen this SATURDAY!\n\n&nbsp\;\n\nWe can take a maximum of 8 
 participants\, and it's first in\, first served.\n\n&nbsp\;\n\n\nIn the co
 mments\, please indicate any gear you will need\, or have a car\, as well 
 as your favourite fruit\, and why it is better than the rest.\n\n\n&nbsp\;
 \n\n\nWe will work out carpooling/transporting in the group chat that you 
 will be added to when approved.\n\n&nbsp\;\n\nTrip Key Details:\nDate: Sat
 urday - 24th/Feb/2024\nMeeting Location: TBC Exact location\, but its Narr
 abeen NSW. (Northen beaches ish)\n\n\n\nMeeting Time: 10am\nDeparture time
 \, Approx. 4pm\n&nbsp\;\n\nGear Required\,\n\n 	Water - At least 1L CRITIC
 AL\n 	Food: lunch\, snacks. CRITICAL\n 	Helmet*\n 	Harness*\n 	Belay devic
 e and a carabiner*\n 	Climbing shoes* (optional but highly recommended)\n 
 	Sunscreen + Sun Appropriate Clothing (HAT)\n\n&nbsp\;\n\nItems with an as
 terisk (*) can be borrowed from the gear cupboard.\n\n\nOnce you have been
  approved for the trip\, we can sort out any gear you may need\, and carpo
 oling\n\nSUPRISE QUESTION: If you could have a melon of any shape and size
 \, what shape and size would it be and why? Points for creativity.\n\nGET 
 KEEN!\n\n-Gabriel and Jemma!\n\n&nbsp\;\n\n&nbsp\;\n\n&nbsp\;
CATEGORIES:Climbing,Outdoor Climbing
LOCATION:https://maps.app.goo.gl/fa13WXz38LpuAfDh9
END:VEVENT
BEGIN:VTIMEZONE
TZID:Australia/Sydney
X-LIC-LOCATION:Australia/Sydney
BEGIN:STANDARD
DTSTART:20240407T020000
TZOFFSETFROM:+1100
TZOFFSETTO:+1000
TZNAME:AEST
END:STANDARD
END:VTIMEZONE
END:VCALENDAR