BEGIN:VCALENDAR
VERSION:2.0
PRODID:-//wp-events-plugin.com//7.2.3.1//EN
TZID:Australia/Sydney
X-WR-TIMEZONE:Australia/Sydney
BEGIN:VEVENT
UID:2903@unswoc.org
DTSTART;TZID=Australia/Sydney;VALUE=DATE:20210501
DTEND;TZID=Australia/Sydney;VALUE=DATE:20210502
DTSTAMP:20210426T070405Z
URL:https://unswoc.org/wordpress/events/mushroom-foraging/
SUMMARY:Mushroom Foraging 🍄🍄🍄🍄
DESCRIPTION:Hi all!\n\nJamie and Danja\, experienced mushroom foraging extr
 aordinaires\, have kindly offered their Saturday to take a bunch of us on 
 a mushroom foraging/cool mushroom spotting walk in Belanglo State Forest!!
 \n\nWe will meet at 10 am on Saturday\, May 1st\, in Belanglo State Forest
  (I will send the exact deets to the people who sign up).\n\nYou will need
 :\n\n 	Paper bags/Basket for the delicious mushies\n 	a small knife\n 	2L 
 water minimum\n 	lunch\n\nPlease comment and tell me your favourite fungus
 .\n\n
END:VEVENT
BEGIN:VTIMEZONE
TZID:Australia/Sydney
X-LIC-LOCATION:Australia/Sydney
BEGIN:STANDARD
DTSTART:20210404T020000
TZOFFSETFROM:+1100
TZOFFSETTO:+1000
TZNAME:AEST
END:STANDARD
END:VTIMEZONE
END:VCALENDAR