BEGIN:VCALENDAR
VERSION:2.0
PRODID:-//wp-events-plugin.com//7.2.3.1//EN
TZID:Australia/Sydney
X-WR-TIMEZONE:Australia/Sydney
BEGIN:VEVENT
UID:2905@unswoc.org
DTSTART;TZID=Australia/Sydney;VALUE=DATE:20210502
DTEND;TZID=Australia/Sydney;VALUE=DATE:20210503
DTSTAMP:20210429T104509Z
URL:https://unswoc.org/wordpress/events/multipitch-trip-mt-gibraltar-inter
 mediate/
SUMMARY:Multipitch Trip Mt Gibraltar - Intermediate
DESCRIPTION:Are you confident in your climbing skills and looking for an ad
 venture? Do you want to climb something that Nina Williams wouldn’t call
  a highball boulder?\n\nPatrick\, Sarah\, and I will be running a trip for
  3/4 people who want to learn how to multipitch this Saturday (1st of May)
 . We'll most likely be heading to Mt Gibraltar in Mittagong\, a great crag
  for easy/moderate multipitching.\n\nYou’ll need to bring:\n\n 	Harness 
 *\n 	Climbing shoes *\n 	Helmet *\n 	Safety *\n 	Guide ATC *\n 	2 prusiks 
 *\n 	Small backpack to climb with (with a waist/chest strap if possible)\n
  	Water\n 	Lunch\n 	Headtorch\n\n* Can be borrowed from the gear cupboard\
 n\nIf you’re interested\, leave a comment with your climbing experience 
 and your comfortable climbing grade.\n\nIf you have any questions\, don’
 t hesitate to shoot Patrick or I a message on Facebook.
ATTACH;FMTTYPE=image/jpeg:https://unswoc.org/wordpress/wp-content/uploads/
 2020/07/Patrick-1.jpeg
CATEGORIES:Outdoor Climbing
END:VEVENT
BEGIN:VTIMEZONE
TZID:Australia/Sydney
X-LIC-LOCATION:Australia/Sydney
BEGIN:STANDARD
DTSTART:20210404T020000
TZOFFSETFROM:+1100
TZOFFSETTO:+1000
TZNAME:AEST
END:STANDARD
END:VTIMEZONE
END:VCALENDAR