BEGIN:VCALENDAR
VERSION:2.0
PRODID:-//wp-events-plugin.com//7.2.3.1//EN
TZID:Australia/Sydney
X-WR-TIMEZONE:Australia/Sydney
BEGIN:VEVENT
UID:3580@unswoc.org
DTSTART;TZID=Australia/Sydney:20250504T073000
DTEND;TZID=Australia/Sydney:20250504T170000
DTSTAMP:20250418T105900Z
URL:https://unswoc.org/wordpress/events/multipitch-sport-climbing-mt-gibra
 ltar/
SUMMARY:[FULL] Multipitch Sport Climbing - Mt Gibraltar
DESCRIPTION:Gabe and I (Raine) will be running a multi-pitch climbing trip 
 at the Slab Wall at Mt Gibraltar\, particularly looking at The Very Easy R
 outes but activities on the day will be dependent on a lot of factors. I h
 ope you enjoyed the photo of Gabe on Smegadeath (not Mt Gilbraltar).\n\nSi
 gning up for this event means you are commiting to a mandatory session abo
 ut anchors and rope management at the Ledge on May 1st. If you do not show
  up you will not be let on the trip. Do not sign up unless you can make it
 . Put the name of a fun 18 you enjoyed recently in the comments.\n\nSkills
  Requirements:\n\n 	Consistently onsight an outdoor 18 on lead\, and comfo
 rtable cleaning anchors\n 	Self-sufficient rappelling with an ATC and thir
 d-hand\n\nGear Requirements:\n\n 	Personal gear: Harness\, shoes (you'll w
 ant these to be comfortable for longer periods)\, chalk bag\n 	Climbing He
 lmet\n 	ATC Guide\n 	Personal Safety and locking carabiners\n 	Prusik\n\nA
 dditional Necessities:\n\n 	&gt\;2L Water (a camelpak can be so nice)\n 	S
 unscreen\n 	Food for the day\n 	Weather appropriate clothing\n 	Day bag to
  fit all your additional necessities\n\nWe would love to try to teach peop
 le some skills to progress them on their journey towards multipitch\, but 
 will be dependent on the signups and the day. This trip will also not magi
 cally certify you to go become the next victim on BBB. Please include in t
 he comments your climbing ability and reaffirm any medical conditions you 
 have as these may need to be managed differently on the wall. We will be c
 arpooling as usual\, so don't stress too much about not having a car.
ATTACH;FMTTYPE=image/jpeg:https://unswoc.org/wordpress/wp-content/uploads/
 2025/04/Smegadeath.png
CATEGORIES:Climbing,Outdoor Climbing
LOCATION:https://www.google.com/maps/dir/?api=1&destination=-34.463157,150.
 428603
END:VEVENT
BEGIN:VTIMEZONE
TZID:Australia/Sydney
X-LIC-LOCATION:Australia/Sydney
BEGIN:STANDARD
DTSTART:20250406T020000
TZOFFSETFROM:+1100
TZOFFSETTO:+1000
TZNAME:AEST
END:STANDARD
END:VTIMEZONE
END:VCALENDAR