BEGIN:VCALENDAR
VERSION:2.0
PRODID:-//wp-events-plugin.com//7.2.3.1//EN
TZID:Australia/Sydney
X-WR-TIMEZONE:Australia/Sydney
BEGIN:VEVENT
UID:2996@unswoc.org
DTSTART;TZID=Australia/Sydney:20220421T180000
DTEND;TZID=Australia/Sydney:20220421T190000
DTSTAMP:20220419T233148Z
URL:https://unswoc.org/wordpress/events/multipitch-skills-the-ledge/
SUMMARY:Multipitch Skills @ The Ledge
DESCRIPTION:By: Xab Castor\n\nDate/Time: 21 April 2022 6:00pm - 7:00pm\n\nH
 ave you been doing some great single pitch climbing lately and want to cli
 mb higher walls?\n\nThe coming Thursday\, I will be running a multipitchin
 g course at the Ledge.\n\nSkills include:\n\n- Calls and their order\n\n- 
 How to set up an anchor\n\n- How to set up a top belay\n\nPlease bring: AT
 C guide\, locking carabiner and harness - These can be borrowed at gear ni
 ght on Wednesdays 6-7pm
CATEGORIES:Climbing,Training
END:VEVENT
BEGIN:VTIMEZONE
TZID:Australia/Sydney
X-LIC-LOCATION:Australia/Sydney
BEGIN:STANDARD
DTSTART:20220403T020000
TZOFFSETFROM:+1100
TZOFFSETTO:+1000
TZNAME:AEST
END:STANDARD
END:VTIMEZONE
END:VCALENDAR