BEGIN:VCALENDAR
VERSION:2.0
PRODID:-//wp-events-plugin.com//7.2.3.1//EN
TZID:Australia/Sydney
X-WR-TIMEZONE:Australia/Sydney
BEGIN:VEVENT
UID:2906@unswoc.org
DTSTART;TZID=Australia/Sydney:20210429T180000
DTEND;TZID=Australia/Sydney:20210429T193000
DTSTAMP:20210427T021714Z
URL:https://unswoc.org/wordpress/events/multipitch-skills-ledge/
SUMMARY:Multipitch Skills @ Ledge
DESCRIPTION:Hi all\,\n\nThis Thursday\, Sarah and Patrick have kindly offer
 ed to run some people through the basic of multipitching. Skills to be cov
 ered incluce:\n\n 	Calls and their order\, one of the most important parts
  of multipitch climbing\n 	Rope management\, especially at a midway anchor
 \n 	How to set-up an anchor\, and how to set-up a top belay.\n\nYou will N
 EED TO BE REGISTERED TO THE MAIN LEDGE EVENT in order to attend this one.\
 n\nPriority will obviously be given to those attending the Multipitch trip
  this weekend\, but all are welcome!
ATTACH;FMTTYPE=image/jpeg:https://unswoc.org/wordpress/wp-content/uploads/
 2019/10/Rinckenberger_111815_5035_MasterPoint.jpg
END:VEVENT
BEGIN:VTIMEZONE
TZID:Australia/Sydney
X-LIC-LOCATION:Australia/Sydney
BEGIN:STANDARD
DTSTART:20210404T020000
TZOFFSETFROM:+1100
TZOFFSETTO:+1000
TZNAME:AEST
END:STANDARD
END:VTIMEZONE
END:VCALENDAR