BEGIN:VCALENDAR
VERSION:2.0
PRODID:-//wp-events-plugin.com//7.2.3.1//EN
TZID:Australia/Sydney
X-WR-TIMEZONE:Australia/Sydney
BEGIN:VEVENT
UID:3081@unswoc.org
DTSTART;TZID=Australia/Sydney;VALUE=DATE:20221002
DTEND;TZID=Australia/Sydney;VALUE=DATE:20221003
DTSTAMP:20220926T061639Z
URL:https://unswoc.org/wordpress/events/multi-trip-adventures/
SUMMARY:Multi-pitching trip
DESCRIPTION:Hello!\n\nNic and I will be leading a trip on Sunday to introdu
 ce you to the world of multipitch climbing. This is your chance to experie
 nce abseiling\, climbing with exposure and all the faff that surrounds lon
 ger routes.\n\nYou must have some experience with climbing to come on this
  trip. Skills you must have:\n\n- Confidently lead belaying\n\n- Confident
 ly seconding 18/19 (ideally have climbed outside before)\n\n- Comfortable 
 abseiling (although we can go through it again)\n\nYou will also get more 
 out of the trip if you have interest in learning about trad gear\, anchor 
 systems and top belaying.\n\nLocation: The iconic Narrow Neck\n\nWe will s
 tart the day at 9:30 on Sunday morning in the Blue Mountains and be there 
 until nightfall. We can arrange carpooling from Sydney but if you are trav
 elling by public transport\, we can arrange to pick you up from the train 
 station.\n\nPlease include in the comments: your climbing experience\, you
 r favourite route that you've climbed and whether you are able to drive.\n
 \n 	Gear required: harness\, safety\, helmet\, climbing shoes\, ATC guide 
 (suitable for top belay) + carabiners (if you have your own make sure you 
 bring it!!!)\, (optional: climbing tape or crack gloves to protect your ha
 nds)\n\nAny personal gear that you require must be collected independently
  from the gear cupboard at UNSW on the regular gear night.\n\n 	What to br
 ing: sunscreen\, 2L water (minimum!)\, food for the day\, a warm jacket\, 
 rain jacket\, a day backpack to fit all your stuff inside\, smiles\, etc.\
 n\nPlease be aware that as the weather is unpredictable\, trip leaders may
  need to alter trips accordingly. If you have any questions\, feel free to
  message me on FB (Mira Bug).\n\nSee you there\,\n\nMira\n\n&nbsp\;\n\nP.S
 . thanks for letting me steal your trip nots Tad
ATTACH;FMTTYPE=image/jpeg:https://unswoc.org/wordpress/wp-content/uploads/
 2021/09/Patrick-1.jpeg
END:VEVENT
BEGIN:VTIMEZONE
TZID:Australia/Sydney
X-LIC-LOCATION:Australia/Sydney
BEGIN:STANDARD
DTSTART:20220403T020000
TZOFFSETFROM:+1100
TZOFFSETTO:+1000
TZNAME:AEST
END:STANDARD
BEGIN:DAYLIGHT
DTSTART:20221002T030000
TZOFFSETFROM:+1000
TZOFFSETTO:+1100
TZNAME:AEDT
END:DAYLIGHT
END:VTIMEZONE
END:VCALENDAR