BEGIN:VCALENDAR
VERSION:2.0
PRODID:-//wp-events-plugin.com//7.2.3.1//EN
TZID:Australia/Sydney
X-WR-TIMEZONE:Australia/Sydney
BEGIN:VEVENT
UID:3432@unswoc.org
DTSTART;TZID=Australia/Sydney;VALUE=DATE:20240623
DTEND;TZID=Australia/Sydney;VALUE=DATE:20240624
DTSTAMP:20240620T072322Z
URL:https://unswoc.org/wordpress/events/multi-pitch-sport-climbing-sunday-
 23-june/
SUMMARY:Multi-Pitch Sport Climbing - Sunday 23/06/24
DESCRIPTION:Hi y'all!!\n\nMaddi and I (Jayden) will be running an INTERMEDI
 ATE multi-pitch climbing trip this Sunday (23rd) at Mt Gibraltar.\n\nWe wi
 ll have our legendary TLIT Stephen G with us and *IMPORTANT NOTE* will exp
 ect that you are comfortable with the following skills:\n\n 	Lead climbing
  and lead belaying\n 	Basic abseiling skills\n 	Indoor/outdoor sport climb
 ing comfortably around grade 18-20\n\nThese are important to ensure the tr
 ip runs safely! Please feel free to contact one of us if you have any ques
 tions :))\n\n[caption id="attachment_15806" align="aligncenter" width="766
 "] Cheers Lucas + Linna for a great pic of Weld Party[/caption]\n\n&nbsp\;
 \n\nWHAT TO BRING\n\n 	Climbing harness*\n 	Climbing helmet*\n 	Belay devi
 ce + two locking carabiners*\n 	Safety sling + locking carabiner*\n 	Prusi
 k\n 	Climbing shoes* (COMFORTABLE - i.e. not your aggressive indoor boulde
 ring shoes\, you'll be standing in them all day)\n 	2L of water\n 	Lunch\,
  snacks\n 	Medication\, if needed\n 	A small backpack (assume you'll need 
 to climb with all your belongings\, so don't bring everything but the kitc
 hen sink)\n 	Wind breaker or jumper (it can get very windy)\n 	$5-10 for y
 our driver\n\n* Asterisked items can be borrowed from the Gear Cupboard on
  Thursdays\, remember to bring cash for a deposit (given we are posting th
 is late\, we should be able to sort gear for you but please let us know in
  your comment what you need)\n\nThe trip leaders will have a First-Aid Kit
  and a personal locator beacon\, please let us know of any medical conditi
 ons/ injuries as well :))\n\nIn the comment box please tell us: your indoo
 r/outdoor climbing experience (grades\, climbing frequency\, whether you'v
 e climbed a multi before)\, if you're willing to drive and whether you're 
 a yay or nay for sparkling water!\n\n\n\n\n\n\n\n
ATTACH;FMTTYPE=image/jpeg:https://unswoc.org/wordpress/wp-content/uploads/
 2023/10/Screen-Shot-2023-10-27-at-1.33.34-pm.png
CATEGORIES:Climbing,Outdoor Climbing,Training
LOCATION:https://maps.app.goo.gl/oPBDhm5eSbfTx8d77
END:VEVENT
BEGIN:VTIMEZONE
TZID:Australia/Sydney
X-LIC-LOCATION:Australia/Sydney
BEGIN:STANDARD
DTSTART:20240407T020000
TZOFFSETFROM:+1100
TZOFFSETTO:+1000
TZNAME:AEST
END:STANDARD
END:VTIMEZONE
END:VCALENDAR