BEGIN:VCALENDAR
VERSION:2.0
PRODID:-//wp-events-plugin.com//7.2.3.1//EN
TZID:Australia/Sydney
X-WR-TIMEZONE:Australia/Sydney
BEGIN:VEVENT
UID:3358@unswoc.org
DTSTART;TZID=Australia/Sydney;VALUE=DATE:20231111
DTEND;TZID=Australia/Sydney;VALUE=DATE:20231112
DTSTAMP:20231031T223512Z
URL:https://unswoc.org/wordpress/events/multi-pitch-sport-climbing-saturda
 y-nov-4/
SUMMARY:[FULL] Multi-Pitch Sport Climbing - Saturday Nov 11
DESCRIPTION:Update: Trip has been postponed by a week due to wet weather\n\
 n\n\nHey everyone!\n\nLucas\, Alfie and Linna will be running an INTERMEDI
 ATE multi-pitch climbing trip next Saturday\, 4th of November tentatively 
 scheduled for Saturday\, 11th of November at Reservoir Dogs. We will focus
  on multipitch skills in a relatively safe environment.\n\nIMPORTANT NOTE\
 n\nAs an intermediate trip\, we expect that you are familiar with the foll
 owing skills:\n\n 	Lead climbing and lead belaying\n 	Basic abseiling skil
 ls\n 	Indoor/outdoor sport climbing comfortably around grade 18-20\n\nJust
  as a side note\, these are only to ensure the safe running of this trip. 
 If you need a refresher or want to learn any of these skills\, don't hesit
 ate to contact us\, and we can show you at The Ledge on Thursday.\n\n[capt
 ion id="attachment_15806" align="aligncenter" width="766"] Weld Party take
 n by Lucas[/caption]\n\nWHAT TO BRING\n\n 	Climbing harness*\n 	Climbing h
 elmet*\n 	Belay device + two locking carabiners*\n 	Safety sling + locking
  carabiner*\n 	Prusik\n 	Climbing shoes* (COMFORTABLE - i.e. not your aggr
 essive indoor bouldering shoes\, you'll be standing in them all day)\n 	2L
  of water\n 	Lunch\, snacks\n 	Medication\, if needed\n 	A small backpack 
 (assume you'll need to climb with all your belongings\, so don't bring eve
 rything but the kitchen sink)\n 	Wind breaker or jumper (it can get very w
 indy)\n 	$5-10 for your driver\n\n* Asterisked items can be borrowed from 
 the Gear Cupboard on Thursdays\, remember to bring cash for a deposit\n\nT
 he trip leaders will be bringing personal gear as well as climbing ropes\,
  a First-Aid Kit and an emergency locator beacon.\n\nIn the comment box pl
 ease tell us: your indoor/outdoor climbing experience (grades and climbing
  frequency)\, multipitch experience\, and if you're willing to drive!\n\nT
 hanks to Gabriel for the trip template\n\n\n\n\n\n\n\n
ATTACH;FMTTYPE=image/jpeg:https://unswoc.org/wordpress/wp-content/uploads/
 2023/10/Screen-Shot-2023-10-27-at-1.33.34-pm.png
CATEGORIES:Climbing,Outdoor Climbing,Training
LOCATION:https://maps.app.goo.gl/8wcG37w9Ly1ySZf3A
END:VEVENT
BEGIN:VTIMEZONE
TZID:Australia/Sydney
X-LIC-LOCATION:Australia/Sydney
BEGIN:DAYLIGHT
DTSTART:20231001T030000
TZOFFSETFROM:+1000
TZOFFSETTO:+1100
TZNAME:AEDT
END:DAYLIGHT
END:VTIMEZONE
END:VCALENDAR