BEGIN:VCALENDAR
VERSION:2.0
PRODID:-//wp-events-plugin.com//7.2.3.1//EN
TZID:Australia/Sydney
X-WR-TIMEZONE:Australia/Sydney
BEGIN:VEVENT
UID:3264@unswoc.org
DTSTART;TZID=Australia/Sydney;VALUE=DATE:20230610
DTEND;TZID=Australia/Sydney;VALUE=DATE:20230611
DTSTAMP:20230605T224246Z
URL:https://unswoc.org/wordpress/events/multi-pitch-saturday-intermediate-
 sport-climbing/
SUMMARY:Multi-Pitch SATURDAY INTERMEDIATE Sport Climbing
DESCRIPTION:\nHey everyone!\n\nMyself\, (Gabriel)\, Brendan (Crispy)\, and 
 TLIT Leenah\, will be running an INTERMEDIATE Multi-pitch climbing trip th
 is SATURDAY (10/6/23).\n\nIMPORTANT NOTE\n\n 	We will be running a ledge t
 raining night for this trip this coming Thursday. it is important that par
 ticipants attend this.\n 	As an intermediate trip\, we expect that you are
  familiar with the following skills.\n\n 	Lead Climbing and Lead Belaying\
 n 	Basic Abseiling Skills\n 	Sport Climbing ability\, comfortably around g
 rade 18\n\n\n\nJust as a side note\, these are only to ensure the safe run
 ning of this trip. If you need help learning or gaining more experience an
 d or skills with any of these\, please do not hesitate to ask one of the f
 riendly execs\, and come along to the ledge training night.\n\nWith that a
 ll said\, the location is a Bores Head in the blue mountains. Please drop 
 below if you have a car / need a lift.\n\nThere are a few climbs that we c
 an try\, but this trip will be attempting longer multi-pitch climbs. Expec
 t more than 150m of climbing. \n\nWhat to bring\n\n 	Harness\n 	Atc + loc
 king beiner\n 	Helmet\n 	Sling + locking beiner\n 	Prusic\n 	Climbing shoe
 s (COMFORTABLE)\n 	Atleast 2L of water\n 	A small backpack\n 	Spray jacket
  and Jumper (It can get very windy)\n\nSneeky question\, u get one fruit t
 hat u have to eat for the rest of your life. what is it?\n\n&nbsp\;\n\nThe
  timings and location are subject to wether and change. Please make sure w
 e can contact you easily on facebook. Thanks again!\n\n&nbsp\;\n\n&nbsp\;\
 n\n\n\n\n\n\n\n
CATEGORIES:Outdoor Climbing
END:VEVENT
BEGIN:VTIMEZONE
TZID:Australia/Sydney
X-LIC-LOCATION:Australia/Sydney
BEGIN:STANDARD
DTSTART:20230402T020000
TZOFFSETFROM:+1100
TZOFFSETTO:+1000
TZNAME:AEST
END:STANDARD
END:VTIMEZONE
END:VCALENDAR