BEGIN:VCALENDAR
VERSION:2.0
PRODID:-//wp-events-plugin.com//7.2.3.1//EN
TZID:Australia/Sydney
X-WR-TIMEZONE:Australia/Sydney
BEGIN:VEVENT
UID:1514@unswoc.org
DTSTART:20160109T200000Z
DTEND:20160110T110000Z
DTSTAMP:20160106T061713Z
URL:https://unswoc.org/wordpress/events/multi-pitch-abseiling/
SUMMARY:Multi-pitch Abseiling
DESCRIPTION:Hey all\,\n\nWe'll be running a multi-pitch abseiling trip this
  Sunday at Malatia Walls in the Blue Mountains. Planning to leave early Su
 nday morning and arrive back to Sydney in the evening. This trip is open t
 o beginners and have 4 spots available.\n\nYou will need to be somewhat co
 mfortable with heights ...\n\n\n\nYou will need to bring:\n\n	Helmet*\n	Co
 mfortable Shoes\n	Lunch\n	At least 1.5L water\n	Harness*\n	Belay Device (A
 TC is fine)*\n	Safety sling*\n	2x Carabiners*\n	Hair tie for Long hair\n	H
 eadtorch or Handheld Torch\n	Money for your driver\n\n*  These items can 
 be freely borrowed from the Gear cupboard and we'll arrange a time for it 
 to be open before the trip.\n\nCheers\,\n\nEamonn
END:VEVENT
END:VCALENDAR