BEGIN:VCALENDAR
VERSION:2.0
PRODID:-//wp-events-plugin.com//7.2.3.1//EN
TZID:Australia/Sydney
X-WR-TIMEZONE:Australia/Sydney
BEGIN:VEVENT
UID:448@unswoc.org
DTSTART:20140313T060000Z
DTEND:20140316T120000Z
DTSTAMP:20140309T125549Z
URL:https://unswoc.org/wordpress/events/mtb-mt-kosciuszko-circuit/
SUMMARY:MTB Mt Kosciuszko Circuit
DESCRIPTION:Finally\, this is the mountainbike trip that was announced ages
  ago on Facebook: https://www.facebook.com/groups/UNSWOutdoorsClub/permal
 ink/10151888658008635/\n\nWe are as good as organized\, but if someone rea
 lly wants to come\, please get in contact with me as soon as possible!!!
LOCATION:Kosciuszko National Park\, Friday Dr\, Thredbo\, Australia
GEO:-36.503716;148.305817
X-APPLE-STRUCTURED-LOCATION;VALUE=URI;X-ADDRESS=Friday Dr\, Thredbo\, Austr
 alia;X-APPLE-RADIUS=100;X-TITLE=Kosciuszko National Park:geo:-36.503716,14
 8.305817
END:VEVENT
END:VCALENDAR