BEGIN:VCALENDAR
VERSION:2.0
PRODID:-//wp-events-plugin.com//7.2.3.1//EN
TZID:Australia/Sydney
X-WR-TIMEZONE:Australia/Sydney
BEGIN:VEVENT
UID:307@unswoc.org
DTSTART:20130927T210000Z
DTEND:20130928T060000Z
DTSTAMP:20130926T131727Z
URL:https://unswoc.org/wordpress/events/mt-solitary-bushwalk/
SUMMARY:Mt Solitary bushwalk
DESCRIPTION:Me and a few others will be walking out to Mt Solitary from Kat
 oomba tomorrow.\n\nhttp://bushwalkingnsw.com/walk.php?nid=788\n
CATEGORIES:Bushwalking
LOCATION:Narrowneck\, \, 
GEO:0.000000;0.000000
X-APPLE-STRUCTURED-LOCATION;VALUE=URI;X-ADDRESS=\, ;X-APPLE-RADIUS=100;X-TI
 TLE=Narrowneck:geo:0.000000,0.000000
END:VEVENT
END:VCALENDAR