BEGIN:VCALENDAR
VERSION:2.0
PRODID:-//wp-events-plugin.com//7.2.3.1//EN
TZID:Australia/Sydney
X-WR-TIMEZONE:Australia/Sydney
BEGIN:VEVENT
UID:3509@unswoc.org
DTSTART;TZID=Australia/Sydney:20241117T083000
DTEND;TZID=Australia/Sydney:20241117T170000
DTSTAMP:20241117T005327Z
URL:https://unswoc.org/wordpress/events/mt-piddington-trad-17th-nov/
SUMMARY:(CANCELLED) Mt Piddington Trad 17th Nov
DESCRIPTION:Hey everyone\,\n\nKeith and I will be leading an end of term be
 ginner/intermediate trad climbing trip at Mt Piddington in the Blue Mounta
 ins. Having some prior skills such as lead climbing and belaying will help
  you get the most out of this trip but are not essential. You can check ou
 t the Crag page here.\n\nGear you will need (which can be borrowed from th
 e UNSWOC gear cupboard):\n\n 	Harness\n 	Helmet\n 	Belay device + locking 
 carabiner (ATC\, Gri Gri etc. )\n 	Climbing shoes\n 	Chalk\, if you have i
 t (can't be borrowed from gear cupboard)\n\nYou will also need:\n\n 	2L wa
 ter\n 	sunscreen\n 	food and snacks for the day\n 	warm clothes\n 	backpac
 k to carry everything\n\nSpaces are limited so get in quick and please inc
 lude in the comments your experience\, if you have a car\, and write us a 
 poem about rocks :))\n\nIf you have any questions feel free to message Kei
 th or I\,\n\nCheers\,\n\nAmelia
LOCATION:https://www.google.com/maps/place/33%C2%B035'60.0%22S+150%C2%B015'
 25.6%22E/@-33.5999849,150.2564743,182m/data=!3m2!1e3!4b1!4m4!3m3!8m2!3d-33
 .599986!4d150.257118?entry=ttu&g_ep=EgoyMDI0MTAyOS4wIKXMDSoASAFQAw%3D%3D
END:VEVENT
BEGIN:VTIMEZONE
TZID:Australia/Sydney
X-LIC-LOCATION:Australia/Sydney
BEGIN:DAYLIGHT
DTSTART:20241006T030000
TZOFFSETFROM:+1000
TZOFFSETTO:+1100
TZNAME:AEDT
END:DAYLIGHT
END:VTIMEZONE
END:VCALENDAR